BEGIN:VCALENDAR
VERSION:2.0
PRODID:-//Halifax Area Model Yacht Club - ECPv6.15.20//NONSGML v1.0//EN
CALSCALE:GREGORIAN
METHOD:PUBLISH
X-WR-CALNAME:Halifax Area Model Yacht Club
X-ORIGINAL-URL:https://hamyc.ca
X-WR-CALDESC:Events for Halifax Area Model Yacht Club
REFRESH-INTERVAL;VALUE=DURATION:PT1H
X-Robots-Tag:noindex
X-PUBLISHED-TTL:PT1H
BEGIN:VTIMEZONE
TZID:America/Halifax
BEGIN:DAYLIGHT
TZOFFSETFROM:-0400
TZOFFSETTO:-0300
TZNAME:ADT
DTSTART:20240310T060000
END:DAYLIGHT
BEGIN:STANDARD
TZOFFSETFROM:-0300
TZOFFSETTO:-0400
TZNAME:AST
DTSTART:20241103T050000
END:STANDARD
BEGIN:DAYLIGHT
TZOFFSETFROM:-0400
TZOFFSETTO:-0300
TZNAME:ADT
DTSTART:20250309T060000
END:DAYLIGHT
BEGIN:STANDARD
TZOFFSETFROM:-0300
TZOFFSETTO:-0400
TZNAME:AST
DTSTART:20251102T050000
END:STANDARD
BEGIN:DAYLIGHT
TZOFFSETFROM:-0400
TZOFFSETTO:-0300
TZNAME:ADT
DTSTART:20260308T060000
END:DAYLIGHT
BEGIN:STANDARD
TZOFFSETFROM:-0300
TZOFFSETTO:-0400
TZNAME:AST
DTSTART:20261101T050000
END:STANDARD
END:VTIMEZONE
BEGIN:VEVENT
DTSTART;TZID=America/Halifax:20251012T130000
DTEND;TZID=America/Halifax:20251012T130000
DTSTAMP:20260423T144434
CREATED:20250308T160753Z
LAST-MODIFIED:20250308T160753Z
UID:6838-1760274000-1760274000@hamyc.ca
SUMMARY:October Sunday Series #2
DESCRIPTION:
URL:https://hamyc.ca/event/october-sunday-series-2/
LOCATION:Sullivan’s Pond\, Chrichton Avenue\, Dartmouth\, NS\, Canada
CATEGORIES:Model Yacht Racing,Soling 1M
END:VEVENT
BEGIN:VEVENT
DTSTART;TZID=America/Halifax:20251019T130000
DTEND;TZID=America/Halifax:20251019T130000
DTSTAMP:20260423T144434
CREATED:20250308T160753Z
LAST-MODIFIED:20250308T160753Z
UID:6839-1760878800-1760878800@hamyc.ca
SUMMARY:HAMYC Club Championship Day #1
DESCRIPTION:
URL:https://hamyc.ca/event/hamyc-club-championship-day-1/
LOCATION:Sullivan’s Pond\, Chrichton Avenue\, Dartmouth\, NS\, Canada
CATEGORIES:Model Yacht Racing,Soling 1M
END:VEVENT
BEGIN:VEVENT
DTSTART;TZID=America/Halifax:20251026T130000
DTEND;TZID=America/Halifax:20251026T130000
DTSTAMP:20260423T144434
CREATED:20250308T160753Z
LAST-MODIFIED:20250308T160753Z
UID:6840-1761483600-1761483600@hamyc.ca
SUMMARY:HAMYC Club Championship Day #2
DESCRIPTION:
URL:https://hamyc.ca/event/hamyc-club-championship-day-2/
LOCATION:Sullivan’s Pond\, Chrichton Avenue\, Dartmouth\, NS\, Canada
CATEGORIES:Model Yacht Racing,Soling 1M
END:VEVENT
END:VCALENDAR