BEGIN:VCALENDAR
VERSION:2.0
PRODID:-//Halifax Area Model Yacht Club - ECPv6.15.20//NONSGML v1.0//EN
CALSCALE:GREGORIAN
METHOD:PUBLISH
X-ORIGINAL-URL:https://hamyc.ca
X-WR-CALDESC:Events for Halifax Area Model Yacht Club
REFRESH-INTERVAL;VALUE=DURATION:PT1H
X-Robots-Tag:noindex
X-PUBLISHED-TTL:PT1H
BEGIN:VTIMEZONE
TZID:America/Halifax
BEGIN:DAYLIGHT
TZOFFSETFROM:-0400
TZOFFSETTO:-0300
TZNAME:ADT
DTSTART:20240310T060000
END:DAYLIGHT
BEGIN:STANDARD
TZOFFSETFROM:-0300
TZOFFSETTO:-0400
TZNAME:AST
DTSTART:20241103T050000
END:STANDARD
BEGIN:DAYLIGHT
TZOFFSETFROM:-0400
TZOFFSETTO:-0300
TZNAME:ADT
DTSTART:20250309T060000
END:DAYLIGHT
BEGIN:STANDARD
TZOFFSETFROM:-0300
TZOFFSETTO:-0400
TZNAME:AST
DTSTART:20251102T050000
END:STANDARD
BEGIN:DAYLIGHT
TZOFFSETFROM:-0400
TZOFFSETTO:-0300
TZNAME:ADT
DTSTART:20260308T060000
END:DAYLIGHT
BEGIN:STANDARD
TZOFFSETFROM:-0300
TZOFFSETTO:-0400
TZNAME:AST
DTSTART:20261101T050000
END:STANDARD
END:VTIMEZONE
BEGIN:VEVENT
DTSTART;TZID=America/Halifax:20250904T180000
DTEND;TZID=America/Halifax:20250904T180000
DTSTAMP:20260423T161607
CREATED:20250308T160753Z
LAST-MODIFIED:20250308T160753Z
UID:6827-1757008800-1757008800@hamyc.ca
SUMMARY:September Thursday Series #1
DESCRIPTION:
URL:https://hamyc.ca/event/september-thursday-series-1/
LOCATION:Sullivan’s Pond\, Chrichton Avenue\, Dartmouth\, NS\, Canada
CATEGORIES:Model Yacht Racing,Soling 1M
END:VEVENT
BEGIN:VEVENT
DTSTART;TZID=America/Halifax:20250905T150000
DTEND;TZID=America/Halifax:20250905T150000
DTSTAMP:20260423T161607
CREATED:20250308T160753Z
LAST-MODIFIED:20250308T160753Z
UID:6828-1757084400-1757084400@hamyc.ca
SUMMARY:CAN-AM Practice
DESCRIPTION:
URL:https://hamyc.ca/event/can-am-practice/
LOCATION:Sullivan’s Pond\, Chrichton Avenue\, Dartmouth\, NS\, Canada
CATEGORIES:Model Yacht Racing,Soling 1M
END:VEVENT
BEGIN:VEVENT
DTSTART;TZID=America/Halifax:20250906T090000
DTEND;TZID=America/Halifax:20250906T160000
DTSTAMP:20260423T161607
CREATED:20250308T160753Z
LAST-MODIFIED:20250308T161806Z
UID:6829-1757149200-1757174400@hamyc.ca
SUMMARY:CAN-AM Day #1
DESCRIPTION:HALIFAX AREA MODEL YACHT CLUB\n2025 CAN-AM CHALLENGE\nSeptember 6-7 2025\n“A Friendly Cross-Border Rivalry Continues” \n  \n2025_CAN-AM_NOR Final
URL:https://hamyc.ca/event/can-am-day-1/
LOCATION:Sullivan’s Pond\, Chrichton Avenue\, Dartmouth\, NS\, Canada
CATEGORIES:Model Yacht Racing,Soling 1M
END:VEVENT
BEGIN:VEVENT
DTSTART;TZID=America/Halifax:20250907T093000
DTEND;TZID=America/Halifax:20250907T093000
DTSTAMP:20260423T161607
CREATED:20250308T160753Z
LAST-MODIFIED:20250308T160753Z
UID:6830-1757237400-1757237400@hamyc.ca
SUMMARY:CAN-AM Day #2
DESCRIPTION:
URL:https://hamyc.ca/event/can-am-day-2/
LOCATION:Sullivan’s Pond\, Chrichton Avenue\, Dartmouth\, NS\, Canada
CATEGORIES:Model Yacht Racing,Soling 1M
END:VEVENT
BEGIN:VEVENT
DTSTART;TZID=America/Halifax:20250911T180000
DTEND;TZID=America/Halifax:20250911T180000
DTSTAMP:20260423T161607
CREATED:20250308T160753Z
LAST-MODIFIED:20250308T160753Z
UID:6831-1757613600-1757613600@hamyc.ca
SUMMARY:September Thursday Series #2
DESCRIPTION:
URL:https://hamyc.ca/event/september-thursday-series-2/
LOCATION:Sullivan’s Pond\, Chrichton Avenue\, Dartmouth\, NS\, Canada
CATEGORIES:Model Yacht Racing,Soling 1M
END:VEVENT
BEGIN:VEVENT
DTSTART;TZID=America/Halifax:20250914T130000
DTEND;TZID=America/Halifax:20250914T130000
DTSTAMP:20260423T161607
CREATED:20250308T160753Z
LAST-MODIFIED:20250308T160753Z
UID:6832-1757854800-1757854800@hamyc.ca
SUMMARY:September Sunday Series #1
DESCRIPTION:
URL:https://hamyc.ca/event/september-sunday-series-1/
LOCATION:Sullivan’s Pond\, Chrichton Avenue\, Dartmouth\, NS\, Canada
CATEGORIES:Model Yacht Racing,Soling 1M
END:VEVENT
BEGIN:VEVENT
DTSTART;TZID=America/Halifax:20250918T180000
DTEND;TZID=America/Halifax:20250918T180000
DTSTAMP:20260423T161607
CREATED:20250308T160753Z
LAST-MODIFIED:20250308T160753Z
UID:6833-1758218400-1758218400@hamyc.ca
SUMMARY:September Thursday Series #3
DESCRIPTION:
URL:https://hamyc.ca/event/september-thursday-series-3/
LOCATION:Sullivan’s Pond\, Chrichton Avenue\, Dartmouth\, NS\, Canada
CATEGORIES:Model Yacht Racing,Soling 1M
END:VEVENT
BEGIN:VEVENT
DTSTART;TZID=America/Halifax:20250921T130000
DTEND;TZID=America/Halifax:20250921T130000
DTSTAMP:20260423T161607
CREATED:20250308T160753Z
LAST-MODIFIED:20250308T160753Z
UID:6834-1758459600-1758459600@hamyc.ca
SUMMARY:September Sunday Series #2
DESCRIPTION:
URL:https://hamyc.ca/event/september-sunday-series-2/
LOCATION:Sullivan’s Pond\, Chrichton Avenue\, Dartmouth\, NS\, Canada
CATEGORIES:Model Yacht Racing,Soling 1M
END:VEVENT
BEGIN:VEVENT
DTSTART;TZID=America/Halifax:20250925T180000
DTEND;TZID=America/Halifax:20250925T180000
DTSTAMP:20260423T161607
CREATED:20250308T160753Z
LAST-MODIFIED:20250308T160753Z
UID:6835-1758823200-1758823200@hamyc.ca
SUMMARY:September Thursday Series #4
DESCRIPTION:
URL:https://hamyc.ca/event/september-thursday-series-4/
LOCATION:Sullivan’s Pond\, Chrichton Avenue\, Dartmouth\, NS\, Canada
CATEGORIES:Model Yacht Racing,Soling 1M
END:VEVENT
BEGIN:VEVENT
DTSTART;TZID=America/Halifax:20250928T130000
DTEND;TZID=America/Halifax:20250928T130000
DTSTAMP:20260423T161607
CREATED:20250308T160753Z
LAST-MODIFIED:20250308T160753Z
UID:6836-1759064400-1759064400@hamyc.ca
SUMMARY:September Sunday Series #3
DESCRIPTION:
URL:https://hamyc.ca/event/september-sunday-series-3/
LOCATION:Sullivan’s Pond\, Chrichton Avenue\, Dartmouth\, NS\, Canada
CATEGORIES:Model Yacht Racing,Soling 1M
END:VEVENT
END:VCALENDAR