BEGIN:VCALENDAR
VERSION:2.0
PRODID:-//Halifax Area Model Yacht Club - ECPv6.15.20//NONSGML v1.0//EN
CALSCALE:GREGORIAN
METHOD:PUBLISH
X-WR-CALNAME:Halifax Area Model Yacht Club
X-ORIGINAL-URL:https://hamyc.ca
X-WR-CALDESC:Events for Halifax Area Model Yacht Club
REFRESH-INTERVAL;VALUE=DURATION:PT1H
X-Robots-Tag:noindex
X-PUBLISHED-TTL:PT1H
BEGIN:VTIMEZONE
TZID:America/Halifax
BEGIN:DAYLIGHT
TZOFFSETFROM:-0400
TZOFFSETTO:-0300
TZNAME:ADT
DTSTART:20240310T060000
END:DAYLIGHT
BEGIN:STANDARD
TZOFFSETFROM:-0300
TZOFFSETTO:-0400
TZNAME:AST
DTSTART:20241103T050000
END:STANDARD
BEGIN:DAYLIGHT
TZOFFSETFROM:-0400
TZOFFSETTO:-0300
TZNAME:ADT
DTSTART:20250309T060000
END:DAYLIGHT
BEGIN:STANDARD
TZOFFSETFROM:-0300
TZOFFSETTO:-0400
TZNAME:AST
DTSTART:20251102T050000
END:STANDARD
BEGIN:DAYLIGHT
TZOFFSETFROM:-0400
TZOFFSETTO:-0300
TZNAME:ADT
DTSTART:20260308T060000
END:DAYLIGHT
BEGIN:STANDARD
TZOFFSETFROM:-0300
TZOFFSETTO:-0400
TZNAME:AST
DTSTART:20261101T050000
END:STANDARD
END:VTIMEZONE
BEGIN:VEVENT
DTSTART;TZID=America/Halifax:20250501T180000
DTEND;TZID=America/Halifax:20250501T180000
DTSTAMP:20260423T211419
CREATED:20250308T160754Z
LAST-MODIFIED:20250308T160754Z
UID:6786-1746122400-1746122400@hamyc.ca
SUMMARY:May Thursday Series #1
DESCRIPTION:
URL:https://hamyc.ca/event/may-thursday-series-1/
LOCATION:Sullivan’s Pond\, Chrichton Avenue\, Dartmouth\, NS\, Canada
CATEGORIES:Model Yacht Racing,Soling 1M
END:VEVENT
BEGIN:VEVENT
DTSTART;TZID=America/Halifax:20250504T130000
DTEND;TZID=America/Halifax:20250504T130000
DTSTAMP:20260423T211419
CREATED:20250308T160754Z
LAST-MODIFIED:20250308T160754Z
UID:6787-1746363600-1746363600@hamyc.ca
SUMMARY:May Sunday Series #1
DESCRIPTION:
URL:https://hamyc.ca/event/may-sunday-series-1/
LOCATION:Sullivan’s Pond\, Chrichton Avenue\, Dartmouth\, NS\, Canada
CATEGORIES:Model Yacht Racing,Soling 1M
END:VEVENT
BEGIN:VEVENT
DTSTART;TZID=America/Halifax:20250508T180000
DTEND;TZID=America/Halifax:20250508T180000
DTSTAMP:20260423T211419
CREATED:20250308T160754Z
LAST-MODIFIED:20250308T160754Z
UID:6788-1746727200-1746727200@hamyc.ca
SUMMARY:May Thursday Series #2
DESCRIPTION:
URL:https://hamyc.ca/event/may-thursday-series-2/
LOCATION:Sullivan’s Pond\, Chrichton Avenue\, Dartmouth\, NS\, Canada
CATEGORIES:Model Yacht Racing,Soling 1M
END:VEVENT
BEGIN:VEVENT
DTSTART;TZID=America/Halifax:20250511T130000
DTEND;TZID=America/Halifax:20250511T130000
DTSTAMP:20260423T211419
CREATED:20250308T160754Z
LAST-MODIFIED:20250308T160754Z
UID:6789-1746968400-1746968400@hamyc.ca
SUMMARY:May Sunday Series #2
DESCRIPTION:
URL:https://hamyc.ca/event/may-sunday-series-2-2/
LOCATION:Sullivan’s Pond\, Chrichton Avenue\, Dartmouth\, NS\, Canada
CATEGORIES:Model Yacht Racing,Soling 1M
END:VEVENT
BEGIN:VEVENT
DTSTART;TZID=America/Halifax:20250515T180000
DTEND;TZID=America/Halifax:20250515T180000
DTSTAMP:20260423T211419
CREATED:20250308T160754Z
LAST-MODIFIED:20250308T160754Z
UID:6790-1747332000-1747332000@hamyc.ca
SUMMARY:May Thursday Series #3
DESCRIPTION:
URL:https://hamyc.ca/event/may-thursday-series-3/
LOCATION:Sullivan’s Pond\, Chrichton Avenue\, Dartmouth\, NS\, Canada
CATEGORIES:Model Yacht Racing,Soling 1M
END:VEVENT
BEGIN:VEVENT
DTSTART;TZID=America/Halifax:20250518T130000
DTEND;TZID=America/Halifax:20250518T130000
DTSTAMP:20260423T211419
CREATED:20250308T160754Z
LAST-MODIFIED:20250308T160754Z
UID:6791-1747573200-1747573200@hamyc.ca
SUMMARY:May Sunday Series #3
DESCRIPTION:
URL:https://hamyc.ca/event/may-sunday-series-3/
LOCATION:Sullivan’s Pond\, Chrichton Avenue\, Dartmouth\, NS\, Canada
CATEGORIES:Model Yacht Racing,Soling 1M
END:VEVENT
BEGIN:VEVENT
DTSTART;TZID=America/Halifax:20250522T180000
DTEND;TZID=America/Halifax:20250522T180000
DTSTAMP:20260423T211419
CREATED:20250308T160754Z
LAST-MODIFIED:20250308T160754Z
UID:6797-1747936800-1747936800@hamyc.ca
SUMMARY:May Thursday Series #4
DESCRIPTION:
URL:https://hamyc.ca/event/may-thursday-series-4/
LOCATION:Sullivan’s Pond\, Chrichton Avenue\, Dartmouth\, NS\, Canada
CATEGORIES:Model Yacht Racing,Soling 1M
END:VEVENT
BEGIN:VEVENT
DTSTART;TZID=America/Halifax:20250525T130000
DTEND;TZID=America/Halifax:20250525T130000
DTSTAMP:20260423T211419
CREATED:20250308T160754Z
LAST-MODIFIED:20250308T160754Z
UID:6798-1748178000-1748178000@hamyc.ca
SUMMARY:May Sunday Series #4
DESCRIPTION:
URL:https://hamyc.ca/event/may-sunday-series-4/
LOCATION:Sullivan’s Pond\, Chrichton Avenue\, Dartmouth\, NS\, Canada
CATEGORIES:Model Yacht Racing,Soling 1M
END:VEVENT
BEGIN:VEVENT
DTSTART;TZID=America/Halifax:20250529T180000
DTEND;TZID=America/Halifax:20250529T180000
DTSTAMP:20260423T211419
CREATED:20250308T160754Z
LAST-MODIFIED:20250308T160754Z
UID:6799-1748541600-1748541600@hamyc.ca
SUMMARY:May Thursday Series #5
DESCRIPTION:
URL:https://hamyc.ca/event/may-thursday-series-5-2/
LOCATION:Sullivan’s Pond\, Chrichton Avenue\, Dartmouth\, NS\, Canada
CATEGORIES:Model Yacht Racing,Soling 1M
END:VEVENT
END:VCALENDAR